BEGIN:VCALENDAR
METHOD:PUBLISH
VERSION:2.0
CALSCALE:GREGORIAN
PRODID:-//NONSGML Sandhills Development\, LLC//NONSGML Sugar Calendar Fe
 eds v3.8.2//EN
X-WR-CALNAME:All-Star Pitch Battle - Oakland Edition
X-WR-CALDESC:STAK Space
X-WR-TIMEZONE:UTC
BEGIN:VTIMEZONE
TZID:UTC
BEGIN:STANDARD
TZOFFSETFROM:+0000
TZOFFSETTO:+0000
DTSTART:20250320T000000
TZNAME:UTC
END:STANDARD
END:VTIMEZONE
BEGIN:VTIMEZONE
TZID:UTC
BEGIN:STANDARD
TZOFFSETFROM:+0000
TZOFFSETTO:+0000
DTSTART:20250320T000000
TZNAME:UTC
END:STANDARD
END:VTIMEZONE
BEGIN:VEVENT
SUMMARY:All-Star Pitch Battle - Oakland Edition
DESCRIPTION:Sep 18\, 12pm – 3:00 PM (PDT)\n\nOakland\, CA\n\n​
 STAK Space - 1900 Broadway\n\n​1920 Broadway\, Oakland\, CA. 94612\, U
 SA\n\nJoin us on the 2nd floor at STAK Space in the 1900 Broadway Towner
  for an unforgettable afternoon of big ideas and bold ambition at the Gl
 obal All-Star Pitch Battle: Oakland Chapter. Afternoon of Thursday\, Sep
 tember 18. Come meet and listen to top early-stage founders\, as they go
  head-to-head pitching to a panel of leading VCs and tech operators.\nAb
 out this event\nReady to pitch at the Startup Grind Global All-Star Pitc
 h Battle in Oakland?\n\n75+ chapters around the world competing.....\n\n
 🎤 Want to pitch? We have 3 exclusive spots for the first founders to 
 purchase a Pitch Ticket.\n\nTo qualify\, you must be Pre-Seed to Series 
 A\, or bootstrapped with strong revenue. All industries are welcome.\n\n
 🌐 The other few spots will be selected in the coming days. Submit you
 r application here:\n\nhttps://airtable.com/appxzBECTclOdlCMV/pagPWgo85H
 UuyCkN8/form\n\n&nbsp\;\n\n🚀 Format: 1 minute elevator pitch (you can
  practice in the elevator up to the 46th floor). One winner - progresses
  to the Semi Finals.\n\n🎟 Tickets are $15 – this is a limited guest
  list\, we require attendee names in advance and charge a small fee to h
 elp ensure attendance.\n\n🚀 The Global Final will take place on Octob
 er 1\, during the virtual AI Summit. Pitching in front of an esteemed ju
 dging panel of investors\, and thousands of attendees eager to see who t
 he Champion will be!\n\nEarly-stage investors will attend and judge so p
 lenty of pitching and networking to be done throughout the evening!\n\nE
 xpect real feedback\, strong connections\, and sky-high inspiration. Whe
 ther you're building\, backing\, or just curious—come for the view\, s
 tay for the vision.\n\n&nbsp\;\n\n​​​📍 Location:\n1920 Broadwa
 y\, 2nd Floor\, Oakland\, CA 94612\n\n​​​🅿️ Driving Instruct
 ions:\n🚗 Parking: Please use our designated garage at 1901 Franklin G
 arage (entrances on Franklin and 19th Street). Or the secured parking ac
 ross the street on 19th at the Franklin Plaza Garage. Both are secure an
 d safe.\n\n​​​🚇 Taking BART?\nExit at 19th St/Oakland—the b
 uilding is directly outside the station.\n\n​​​🎟️ Seats are 
 limited—RSVP now to secure your spot.\nFor questions or day-of needs\,
  text me directly: 408-992-5043\n\n​​​Let’s spark the next wave
  of innovation—right here in Oakland.\n\n​Location\n\n​STAK Space 
 - 1900 Broadway\n\n​1920 Broadway\, Oakland\, CA. 94612\, USA
URL;VALUE=URI:https://stakspace.com/events/all-star-pitch-battle-oakland
 -edition/
UID:urn:uuid:39e79af0-e6ba-486d-b3bc-31f3d6ac3973
STATUS:CONFIRMED
ORGANIZER:
DTSTAMP:20260424T203851Z
DTSTART;TZID=UTC:20250918T120000
DTEND;TZID=UTC:20250918T150000
LOCATION:1900 Broadway
END:VEVENT
END:VCALENDAR