BEGIN:VCALENDAR
METHOD:PUBLISH
VERSION:2.0
CALSCALE:GREGORIAN
PRODID:-//NONSGML Sandhills Development\, LLC//NONSGML Sugar Calendar Fe
 eds v3.8.2//EN
X-WR-CALNAME:An OaklandClaw Experiment - The Penthouse Heist
X-WR-CALDESC:STAK Space
X-WR-TIMEZONE:UTC
BEGIN:VTIMEZONE
TZID:UTC
BEGIN:STANDARD
TZOFFSETFROM:+0000
TZOFFSETTO:+0000
DTSTART:20250911T050000
TZNAME:UTC
END:STANDARD
END:VTIMEZONE
BEGIN:VTIMEZONE
TZID:UTC
BEGIN:STANDARD
TZOFFSETFROM:+0000
TZOFFSETTO:+0000
DTSTART:20250911T050000
TZNAME:UTC
END:STANDARD
END:VTIMEZONE
BEGIN:VEVENT
SUMMARY:An OaklandClaw Experiment - The Penthouse Heist
DESCRIPTION:​The Lobster is back... and this time\, we’re building i
 n the sky. Can your agent break into a digital piggybank? If you believe
  agents are unsafe\, show up and prove it.\n​All adversarial attacks w
 ill be documented\, and we'll publish the work to help the broader commu
 nity learn about the risk associated with emerging agentic platforms.\n
 For those looking to show off something cool they're building\, there 
 will be a parallel track for "Best Idea Wins" - more details to follow.\
 n​This is hands-on.\nThis is agent execution.\nThis is where things sh
 ip.\n​🦞 Discord\n​Join the HLOS Discord channel to get updates
  prior to the event. Feel free to ping the channel with any questions.\n
 ​📅 Schedule\n​4:00–5:00 PM — Optional Networking + OpenClaw 
 Workshop\nGet set up early. Install. Configure. Ask questions.\n​5:00 
 PM — Laptops Open\nWe’ll have OpenClaw running live before hacking b
 egins.\n​6:00–8:00 PM — Build\nShip. Break shells. Fix. Ship again
 .\n​8:00–9:00 PM — Judging + Demos\nSelected teams will present li
 ve.\n​🏆 Prizes &amp\; Credits\n🏅 Prize tracks announced 3/9\n
 ⚖️ Judges\n\n\n 	\n​Adwait Sathe: Data Engineer\, Privacy Meta
 Super Intelligence Labs\n\n 	\n​Andrew Smith: Co-Founder\, CEO\, Effi
 cient Frontier Labs | Founder\, HLOS.ai\n\n 	\n​Goutham Nekkalapu: Ma
 chine Learning Engineer @ Gen (Norton)\n\n 	\n​Karthik Rao: Engineerin
 g Leader Amazon Web Services (AWS) Kiro (Agentic AI)\n\n 	\n​Elizabe
 th (Lizzie) Siegle: Developer Advocate @ DigitalOcean\n\n 	\n​Peter Va
 n Voorhis: Recruiting Lead Robinhood\n\n 	\n​Safiya Adatia: Founder &
 amp\; CEO BollyStep\n\n 	\n​Sandeep Ayloo: Senior Software Engineer 
 Walmart Labs\n\n 	\n​Thiyagarajan Palaniyappan: Senior Applied Scient
 ist\, AWS\n\n 	\n​Usman Masood: Member of Technical Staff\, OpenAI\n\n
 \n​🤝 Community Supporters\n🏢 STAK Space - Downtown Oakland in
 novation hub\n🔒 HLOS AI - Identity and trust layer powering agentic
  commerce\n🚀 Efficient Frontier Labs\n🦀 Claw.Party\n​Sponsors\
 nDigital Ocean - OpenClaw deployed via Droplet\nYou.com - API endpoint
 s for AI agents.\n​🎤 Want to demo\, volunteer\, sponsor\, or suppor
 t? We'd love the help! Ping us at: context@hlos.ai\n​📍 1900 Broadwa
 y Oakland\, CA... The Penthouse: All the way up!
URL;VALUE=URI:https://stakspace.com/events/an-oaklandclaw-experiment-the
 -penthouse-heist/
UID:urn:uuid:816fc197-a37f-4bb6-934d-c2efa4bf535d
STATUS:CONFIRMED
ORGANIZER:
DTSTAMP:20260424T170345Z
DTSTART;TZID=UTC:20260312T170000
DTEND;TZID=UTC:20260312T210000
LOCATION:1900 Broadway
END:VEVENT
END:VCALENDAR