BEGIN:VCALENDAR
METHOD:PUBLISH
VERSION:2.0
CALSCALE:GREGORIAN
PRODID:-//NONSGML Sandhills Development\, LLC//NONSGML Sugar Calendar Fe
 eds v3.8.2//EN
X-WR-CALNAME:STAK Event: Black History Month Lunch
X-WR-CALDESC:STAK Space
X-WR-TIMEZONE:UTC
BEGIN:VTIMEZONE
TZID:UTC
BEGIN:STANDARD
TZOFFSETFROM:+0000
TZOFFSETTO:+0000
DTSTART:20250813T010000
TZNAME:UTC
END:STANDARD
END:VTIMEZONE
BEGIN:VTIMEZONE
TZID:UTC
BEGIN:STANDARD
TZOFFSETFROM:+0000
TZOFFSETTO:+0000
DTSTART:20250813T010000
TZNAME:UTC
END:STANDARD
END:VTIMEZONE
BEGIN:VEVENT
SUMMARY:STAK Event: Black History Month Lunch
DESCRIPTION:Celebrate Black History Month with us! Enjoy curated drinks 
 and a spread of authentic African favorites from 9ja Grills African Cuis
 ine. Grab a drink\, nibble on the best of the Bay\, and help us honor th
 e month in style.
URL;VALUE=URI:https://stakspace.com/events/black-history-month-lunch/
UID:urn:uuid:0b059321-d31c-4d89-8b48-079dcad8ff4a
STATUS:CONFIRMED
ORGANIZER:
DTSTAMP:20260424T185450Z
DTSTART;TZID=UTC:20260211T130000
DTEND;TZID=UTC:20260211T150000
LOCATION:1950 Franklin
END:VEVENT
END:VCALENDAR