BEGIN:VCALENDAR
METHOD:PUBLISH
VERSION:2.0
CALSCALE:GREGORIAN
PRODID:-//NONSGML Sandhills Development\, LLC//NONSGML Sugar Calendar Fe
 eds v3.8.2//EN
X-WR-CALNAME:ClawCamp: Get Started & Up-level Your OpenClaw Personal Age
 nt Superpowers!
X-WR-CALDESC:STAK Space
X-WR-TIMEZONE:UTC
BEGIN:VTIMEZONE
TZID:UTC
BEGIN:STANDARD
TZOFFSETFROM:+0000
TZOFFSETTO:+0000
DTSTART:20251015T210000
TZNAME:UTC
END:STANDARD
END:VTIMEZONE
BEGIN:VTIMEZONE
TZID:UTC
BEGIN:STANDARD
TZOFFSETFROM:+0000
TZOFFSETTO:+0000
DTSTART:20251015T210000
TZNAME:UTC
END:STANDARD
END:VTIMEZONE
BEGIN:VEVENT
SUMMARY:ClawCamp: Get Started & Up-level Your OpenClaw Personal Agent Su
 perpowers!
DESCRIPTION:STAK Ventures is proud to support #ClawCamp\, a high-impact 
 day of workshops and skills building designed to help you master your ow
 n Personal Orchestration Agents.\n\nAs we continue to build tech-forward
  ecosystems at the 1900 Broadway Tower - Oakland campus\, we know that t
 he "Infra Era" is about more than just buildings. It is about the intell
 igent agents that help us work and live more effectively. Join our team 
 and a world-class lineup of speakers from Google DeepMind\, NVIDIA\, and
  You.com to go from AI beginner to multi-agent master.\n\nWhy you should
  be there:\n\n• Upskilling for All Levels: From beginner onboarding to
  advanced multi-agent workflows and security.\n• Exclusive Perks: Atte
 ndees get partner perks\, including free OpenClaw agents.\n• Pro Hardw
 are: You can even secure a fully configured M4 Mac mini if you purchase 
 that specific ticket package.\n• Skills Competition: Put your orchestr
 ation to the test and network with the top minds in agentic AI.\n\nEvent
  Details:\n📅 Thursday\, April 16\, 2026\n📍 1920 Broadway\, Oakland
 \, CA\n🎟️ Register here: socialloop.ai\n\nWhether you are looking t
 o optimize your workflows or explore the future of agentic security\, th
 is is the community to do it with. See you there!
URL;VALUE=URI:https://stakspace.com/events/clawcamp-get-started-up-level
 -your-openclaw-personal-agent-superpowers/
UID:urn:uuid:bfc0b74f-6528-4c96-9682-1054e9959bb3
STATUS:CONFIRMED
ORGANIZER:
DTSTAMP:20260424T170226Z
DTSTART;TZID=UTC:20260416T090000
DTEND;TZID=UTC:20260416T180000
LOCATION:1920 Broadway
END:VEVENT
END:VCALENDAR