BEGIN:VCALENDAR
METHOD:PUBLISH
VERSION:2.0
CALSCALE:GREGORIAN
PRODID:-//NONSGML Sandhills Development\, LLC//NONSGML Sugar Calendar Fe
 eds v3.8.2//EN
X-WR-CALNAME:Fall Happy Hour
X-WR-CALDESC:STAK Space
X-WR-TIMEZONE:UTC
BEGIN:VTIMEZONE
TZID:UTC
BEGIN:STANDARD
TZOFFSETFROM:+0000
TZOFFSETTO:+0000
DTSTART:20250403T040000
TZNAME:UTC
END:STANDARD
END:VTIMEZONE
BEGIN:VTIMEZONE
TZID:UTC
BEGIN:STANDARD
TZOFFSETFROM:+0000
TZOFFSETTO:+0000
DTSTART:20250403T040000
TZNAME:UTC
END:STANDARD
END:VTIMEZONE
BEGIN:VEVENT
SUMMARY:Fall Happy Hour
DESCRIPTION:Our community has grown significantly\, and it's time to cel
 ebrate! Join us for fall-themed drinks and light bites while you connect
  with new coworking neighbors.\n\nExpect seasonal drinks\, autumn appeti
 zers\, and great conversations. Whether you're new to the space or a lon
 gtime member\, we hope to see you there!\n\nThursday\, October 2 at 4pm\
 n\n1920 Broadway - Level 2
URL;VALUE=URI:https://stakspace.com/events/fall-happy-hour/
UID:urn:uuid:6114a9d1-24cc-442b-8282-8c01050c500c
STATUS:CONFIRMED
ORGANIZER:
DTSTAMP:20260424T203504Z
DTSTART;TZID=UTC:20251002T160000
DTEND;TZID=UTC:20251002T183000
LOCATION:1920 Broadway
END:VEVENT
END:VCALENDAR