BEGIN:VCALENDAR
METHOD:PUBLISH
VERSION:2.0
CALSCALE:GREGORIAN
PRODID:-//NONSGML Sandhills Development\, LLC//NONSGML Sugar Calendar Fe
 eds v3.8.2//EN
X-WR-CALNAME:Founders Bay | Founders & VC Happy Hour
X-WR-CALDESC:STAK Space
X-WR-TIMEZONE:UTC
BEGIN:VTIMEZONE
TZID:UTC
BEGIN:STANDARD
TZOFFSETFROM:+0000
TZOFFSETTO:+0000
DTSTART:20250507T060000
TZNAME:UTC
END:STANDARD
END:VTIMEZONE
BEGIN:VTIMEZONE
TZID:UTC
BEGIN:STANDARD
TZOFFSETFROM:+0000
TZOFFSETTO:+0000
DTSTART:20250507T060000
TZNAME:UTC
END:STANDARD
END:VTIMEZONE
BEGIN:VEVENT
SUMMARY:Founders Bay | Founders & VC Happy Hour
DESCRIPTION:​Join Founders Bay for a laid-back evening of networking\,
  drinks\, and great conversations! Whether you're a startup founder look
 ing for funding\, a VC seeking the next big idea\, or just someone passi
 onate about innovation\, this event is for you.\n​Grab a drink\, share
  your journey\, and connect with people who can help take your vision to
  the next level! 🍹\n​Expect engaging discussions\, valuable connect
 ions\, and a welcoming atmosphere where ideas flow as easily as the cock
 tails. There’s no formal agenda—just an opportunity to meet like-min
 ded entrepreneurs\, swap insights\, and build relationships that could l
 ead to your next big break.\n​Come unwind after a busy week\, find pot
 ential partners or mentors\, and be part of a thriving startup community
 . No pressure\, no sales pitches—just good vibes\, great people\, and 
 endless opportunities. See you there! 🎉🌟\n​\n\n​About Founders
  Bay\n​​Founders Bay is a community of 80\,000 founders and VCs hel
 ping startups grow through curated events\, expert workshops\, and netwo
 rking. Paid members get exclusive and free access to workshops\, office 
 hours\, and top investor connections.\n​​💡 Proudly women-owned by
  Mariane Bekker\, we’re building a diverse and inclusive startup ecos
 ystem.\n​​🚀 Join today to access our private community\, exclus
 ive workshops\, and top-tier events!\n​​🔥 New: Our new fund inves
 ts in frontier and AI technology. Want to join as an LP? Apply now to 
 co-invest with us!\n\n\n\n​By registering for this event\, you agree t
 o release Founders Bay Inc. from all liability related to your participa
 tion in the event. You also consent to be subscribed to the Founders Bay
  newsletter for updates on future workshops\, events\, and resources. Yo
 u may unsubscribe at any time.
URL;VALUE=URI:https://stakspace.com/events/founders-bay-founders-vc-happ
 y-hour/
UID:urn:uuid:4da9f916-60b8-4119-a8d6-9d08ab36130d
STATUS:CONFIRMED
ORGANIZER:
DTSTAMP:20260424T203758Z
DTSTART;TZID=UTC:20251105T180000
DTEND;TZID=UTC:20251105T210000
LOCATION:1920 Broadway
END:VEVENT
END:VCALENDAR