BEGIN:VCALENDAR
METHOD:PUBLISH
VERSION:2.0
CALSCALE:GREGORIAN
PRODID:-//NONSGML Sandhills Development\, LLC//NONSGML Sugar Calendar Fe
 eds v3.8.2//EN
X-WR-CALNAME:Happy Hour | Golf Simulator Tournament
X-WR-CALDESC:STAK Space
X-WR-TIMEZONE:UTC
BEGIN:VTIMEZONE
TZID:UTC
BEGIN:STANDARD
TZOFFSETFROM:+0000
TZOFFSETTO:+0000
DTSTART:20250807T040000
TZNAME:UTC
END:STANDARD
END:VTIMEZONE
BEGIN:VTIMEZONE
TZID:UTC
BEGIN:STANDARD
TZOFFSETFROM:+0000
TZOFFSETTO:+0000
DTSTART:20250807T040000
TZNAME:UTC
END:STANDARD
END:VTIMEZONE
BEGIN:VEVENT
SUMMARY:Happy Hour | Golf Simulator Tournament
DESCRIPTION:Join us for a friendly and complimentary golf simulator to
 urnament on the 2nd floor at 1900 Broadway\, Oakland ⛳\n\n\nWhere: 2n
 d floor at 1900 Broadway\n\nWhen: 11th of December 4pm-7pm (happy hour
  starts at 4pm 🍹)\n\nAll skill levels are welcome and an instructor 
 will be there to help anyone who wants tips. There will be complimentary
  snacks and drinks and you are welcome to bring a friend. You can also 
 come just to watch and support your friends. We will also have ping pon
 g and pool available for anyone who wants to hang out before or after th
 eir round 🏓🎱
URL;VALUE=URI:https://stakspace.com/events/happy-hour-golf-simulator-tou
 rnament-2/
UID:urn:uuid:f7ad556e-a502-4ecb-bd4d-fbd1b4d6c3cf
STATUS:CONFIRMED
ORGANIZER:
DTSTAMP:20260424T185409Z
DTSTART;TZID=UTC:20260205T160000
DTEND;TZID=UTC:20260205T190000
LOCATION:1920 Broadway
END:VEVENT
END:VCALENDAR