BEGIN:VCALENDAR
METHOD:PUBLISH
VERSION:2.0
CALSCALE:GREGORIAN
PRODID:-//NONSGML Sandhills Development\, LLC//NONSGML Sugar Calendar Fe
 eds v3.8.2//EN
X-WR-CALNAME:Headshot Event: Fundraise-Ready Founder Portraits
X-WR-CALDESC:STAK Space
X-WR-TIMEZONE:UTC
BEGIN:VTIMEZONE
TZID:UTC
BEGIN:STANDARD
TZOFFSETFROM:+0000
TZOFFSETTO:+0000
DTSTART:20251006T220000
TZNAME:UTC
END:STANDARD
END:VTIMEZONE
BEGIN:VTIMEZONE
TZID:UTC
BEGIN:STANDARD
TZOFFSETFROM:+0000
TZOFFSETTO:+0000
DTSTART:20251006T220000
TZNAME:UTC
END:STANDARD
END:VTIMEZONE
BEGIN:VEVENT
SUMMARY:Headshot Event: Fundraise-Ready Founder Portraits
DESCRIPTION:​We are excited to offer 15 minute mini photoshoot session
 s with photographer Natasha Renée of Featured Founders\, exclusively f
 or STAK members and residents.\n​​​Whether you are refreshing you
 r LinkedIn profile\, updating your website\, preparing for press or spea
 king opportunities\, or simply wanting imagery that reflects who you are
  as a founder today\, this session is designed to help you feel seen and
  supported.\n\n✨ What Your Session Includes\n\n 	\n​​A 15 minute p
 hoto session on site at STAK Space\n\n 	\n​​A private\, personalized
  gallery delivered to your inbox\n\n 	\n​​The option to purchase you
 r favorite images ($30 or less/photo)\n\n 	\n​​Exclusive discounted 
 event pricing\n\n\n🗓 How to Reserve Your Spot\n​​To access the bo
 oking calendar\, please complete your registration for this event. Afte
 r you register\, you will receive an email with the link to select your 
 preferred session time.\n​​⚠️ Please note that registering for 
 this event does NOT secure a photoshoot time. You will still need to boo
 k a specific time slot using the link sent after registration. Sessions 
 are booked on a first come basis.\n​​If all time slots are full when
  you open the booking page\, you may join the waitlist directly through 
 the booking system. The system will notify you automatically if a spot o
 pens.\n​​If this event date does not work for you\, you are still en
 couraged to register. You will be notified of future headshot events and
  receive early access to new dates.\n\n👤 About the Photographer\n​
 ​​​Natasha Renée is a San Francisco Bay Area photographer who 
 helps founders elevate their personal brands as they build companies roo
 ted in purpose\, passion\, and profit.\n​​​​Website | LinkedIn
  | Instagram | YouTube
URL;VALUE=URI:https://stakspace.com/events/headshot-event-fundraise-read
 y-founder-portraits/
UID:urn:uuid:dd5d87b2-44d9-47f5-bb35-08adef3bb788
STATUS:CONFIRMED
ORGANIZER:
DTSTAMP:20260424T170245Z
DTSTART;TZID=UTC:20260407T100000
DTEND;TZID=UTC:20260407T170000
LOCATION:1920 Broadway
END:VEVENT
END:VCALENDAR