BEGIN:VCALENDAR
METHOD:PUBLISH
VERSION:2.0
CALSCALE:GREGORIAN
PRODID:-//NONSGML Sandhills Development\, LLC//NONSGML Sugar Calendar Fe
 eds v3.8.2//EN
X-WR-CALNAME:​🚀 Oakland-Claw: The Newest OpenClaw Hackers’ Den
X-WR-CALDESC:STAK Space
X-WR-TIMEZONE:UTC
BEGIN:VTIMEZONE
TZID:UTC
BEGIN:STANDARD
TZOFFSETFROM:+0000
TZOFFSETTO:+0000
DTSTART:20250903T120000
TZNAME:UTC
END:STANDARD
END:VTIMEZONE
BEGIN:VTIMEZONE
TZID:UTC
BEGIN:STANDARD
TZOFFSETFROM:+0000
TZOFFSETTO:+0000
DTSTART:20250903T120000
TZNAME:UTC
END:STANDARD
END:VTIMEZONE
BEGIN:VEVENT
SUMMARY:​🚀 Oakland-Claw: The Newest OpenClaw Hackers’ Den
DESCRIPTION:🧠 The Rise of Agents: How Hackers and Builders Are Deploy
 ing the Next Generation of Tech\n​Oakland is entering the agent era.\n
 ​Welcome to Oakland-Claw\, the newest OpenClaw Hackers’ Den — and
  the official launch of a new AI + emerging tech series at STAK Space fo
 cused on Agentic Workflows\, Autonomous Systems\, and the Builders Depl
 oying Them.\n​This inaugural panel — “The Rise of Agents” — 
 explores how hackers and operators are designing\, deploying\, and scali
 ng AI agents that move beyond chat into execution. From multi-agent orch
 estration to vertical AI operators\, we’ll unpack what’s real\, what
 ’s working\, and what’s coming next.\n​This isn’t just an event.
 \nIt’s the beginning of a Bay Area hub.\n\n​🌉 The Backdrop: Aware
 ness → Thought Leadership → Community\n​Oakland-Claw is built on t
 hree pillars:\n​🧠 Awareness – Cutting through the noise around A
 I and emerging tech.\n🎙 Thought Leadership – High-signal conversat
 ions with real builders shipping real systems.\n🤝 Community Building
 – Creating a physical home for hackers\, builders\, and technical ope
 rators to gather\, collaborate\, and deploy.\n​This series at STAK Spa
 ce will evolve into:\n\n\n 	\n​🛠 Hackathons &amp\; live build sessi
 ons\n\n 	\n​🤖 Introductory and masterclasses on building agents\n\n
  	\n​🧪 Think tanks for advanced experimentation\n\n 	\n​🔍 Tale
 nt discovery and technical collaboration\n\n 	\n​💡 A launchpad for 
 emerging tech startups\n\n 	\n​🌍 The Bay Area’s East Bay hub for 
 agentic innovation\n\n\n​If you’re building with AI — not just tal
 king about it — this room is for you.\n\n​🗓 Event Details\n​Thu
 rsday\, March 5th\n🕛 12:00 PM – 3:00 PM\n​📍 Location:\n1920 B
 roadway\, 2nd Floor\nOakland\, CA 94612\n🅿️ Driving Instructions\n
 🚗 Parking: Please use our designated garage at 1901 Franklin Gar
 age (entrances on Franklin and 19th Street)\, or the secured parking ac
 ross the street on 19th at the Franklin Plaza Garage. Both are secure an
 d safe.\n​🚇 Taking BART?\nExit at 19th St/Oakland — the buildi
 ng is directly outside the station.\n​🎟 Seats are limited — RSVP 
 now to secure your spot.\n​For questions or day-of needs\, text me dir
 ectly:\n📱 408-992-5043\n​AI is accelerating.\nAgents are deploying.
 \nEmerging tech is reshaping everything.\n​Oakland-Claw is where we or
 ganize.\n​Let’s spark the next wave of innovation — right here in 
 Oakland. 🔥
URL;VALUE=URI:https://stakspace.com/events/oakland-claw-the-newest-openc
 law-hackers-den/
UID:urn:uuid:f1426a21-1b1c-40cf-a77f-a2a6d7313634
STATUS:CONFIRMED
ORGANIZER:
DTSTAMP:20260424T170953Z
DTSTART;TZID=UTC:20260305T000000
DTEND;TZID=UTC:20260305T030000
LOCATION:1920 Broadway
END:VEVENT
END:VCALENDAR