BEGIN:VCALENDAR
METHOD:PUBLISH
VERSION:2.0
CALSCALE:GREGORIAN
PRODID:-//NONSGML Sandhills Development\, LLC//NONSGML Sugar Calendar Fe
 eds v3.8.2//EN
X-WR-CALNAME:Pi Day 🥧π
X-WR-CALDESC:STAK Space
X-WR-TIMEZONE:UTC
BEGIN:VTIMEZONE
TZID:UTC
BEGIN:STANDARD
TZOFFSETFROM:+0000
TZOFFSETTO:+0000
DTSTART:20250911T010000
TZNAME:UTC
END:STANDARD
END:VTIMEZONE
BEGIN:VTIMEZONE
TZID:UTC
BEGIN:STANDARD
TZOFFSETFROM:+0000
TZOFFSETTO:+0000
DTSTART:20250911T010000
TZNAME:UTC
END:STANDARD
END:VTIMEZONE
BEGIN:VEVENT
SUMMARY:Pi Day 🥧π
DESCRIPTION:Celebrate Pi (π) Day early with a slice (or three)! Join us
  for a deliciously fun event featuring a selection of sweet and savory p
 ies. It’s the perfect way to enjoy some tasty geometry with the commun
 ity!
URL;VALUE=URI:https://stakspace.com/events/pi-day-%f0%9f%a5%a7%cf%80/
UID:urn:uuid:4b495275-0e98-4530-8fe3-836505aa6b18
STATUS:CONFIRMED
ORGANIZER:
DTSTAMP:20260424T170937Z
DTSTART;TZID=UTC:20260312T130000
DTEND;TZID=UTC:20260312T160000
LOCATION:1920 Broadway
END:VEVENT
END:VCALENDAR