BEGIN:VCALENDAR
METHOD:PUBLISH
VERSION:2.0
CALSCALE:GREGORIAN
PRODID:-//NONSGML Sandhills Development\, LLC//NONSGML Sugar Calendar Fe
 eds v3.8.2//EN
X-WR-CALNAME:STAK Member Event: St. Patrick's Day Brunch
X-WR-CALDESC:STAK Space
X-WR-TIMEZONE:UTC
BEGIN:VTIMEZONE
TZID:UTC
BEGIN:STANDARD
TZOFFSETFROM:+0000
TZOFFSETTO:+0000
DTSTART:20250915T230000
TZNAME:UTC
END:STANDARD
END:VTIMEZONE
BEGIN:VTIMEZONE
TZID:UTC
BEGIN:STANDARD
TZOFFSETFROM:+0000
TZOFFSETTO:+0000
DTSTART:20250915T230000
TZNAME:UTC
END:STANDARD
END:VTIMEZONE
BEGIN:VEVENT
SUMMARY:STAK Member Event: St. Patrick's Day Brunch
DESCRIPTION:Get into the spirit of the season at our St. Patty’s Day H
 appy Brunch! Join us for a festive gathering complete with themed refres
 hments\, good company\, and a touch of Irish cheer within our 1920 Broad
 way Coworking Space!
URL;VALUE=URI:https://stakspace.com/events/st-patricks-day-happy-hour/
UID:urn:uuid:b80c4c60-0ef7-41ea-8332-99e0ef18c7a4
STATUS:CONFIRMED
ORGANIZER:
DTSTAMP:20260424T170907Z
DTSTART;TZID=UTC:20260317T110000
DTEND;TZID=UTC:20260317T130000
LOCATION:1920 Broadway
END:VEVENT
END:VCALENDAR