BEGIN:VCALENDAR
METHOD:PUBLISH
VERSION:2.0
CALSCALE:GREGORIAN
PRODID:-//NONSGML Sandhills Development\, LLC//NONSGML Sugar Calendar Fe
 eds v3.8.2//EN
X-WR-CALNAME:Sofar Sounds | Live Music at 1900 Broadway
X-WR-CALDESC:STAK Space
X-WR-TIMEZONE:UTC
BEGIN:VTIMEZONE
TZID:UTC
BEGIN:STANDARD
TZOFFSETFROM:+0000
TZOFFSETTO:+0000
DTSTART:20250821T070000
TZNAME:UTC
END:STANDARD
END:VTIMEZONE
BEGIN:VTIMEZONE
TZID:UTC
BEGIN:STANDARD
TZOFFSETFROM:+0000
TZOFFSETTO:+0000
DTSTART:20250821T070000
TZNAME:UTC
END:STANDARD
END:VTIMEZONE
BEGIN:VEVENT
SUMMARY:Sofar Sounds | Live Music at 1900 Broadway
DESCRIPTION:Use promo code STAKFRIENDS-5D6AD for 20% off for Feb. 19th s
 how! Tickets will sell out.\n\nEscape the ordinary and experience live m
 usic as it was meant to be heard. STAK Space is partnering with the glob
 al music community\, Sofar Sounds\, to launch an exclusive\, monthly con
 cert series.\n\nEach month\, we’ll transform a unique space within the
  1900 Broadway campus into an intimate\, secret-live music experience. F
 rom the panoramic 39th-floor sky lounge and the vibrant 4th-floor taproo
 m to our serene amenity lounges\, podium deck\, and versatile 2nd-floor 
 spaces\, every curated evening will offer a new perspective and a deeply
  connected atmosphere.\n\nThis is not a typical concert. It’s a carefu
 lly crafted discovery where the city lights or curated surroundings set 
 the stage\, and emerging artists take the spotlight. Leave distractions 
 behind and immerse yourself in an unforgettable night of music\, communi
 ty\, and the pure power of song.\n\nVenue: 4th Floor Amenity Lounge &amp
 \; Digital Taproom @ 1900 Broadway\nSeries: Monthly\, in partnership wit
 h Sofar Sounds.
URL;VALUE=URI:https://stakspace.com/events/stak-1900-broadway-resident-e
 vent-sofar-sounds-2-2/
UID:urn:uuid:412b2f6a-7a48-4066-b4ef-e63923077ab1
STATUS:CONFIRMED
ORGANIZER:
DTSTAMP:20260424T185726Z
DTSTART;TZID=UTC:20260219T190000
DTEND;TZID=UTC:20260219T220000
LOCATION:1900 Broadway
END:VEVENT
END:VCALENDAR