BEGIN:VCALENDAR
METHOD:PUBLISH
VERSION:2.0
CALSCALE:GREGORIAN
PRODID:-//NONSGML Sandhills Development\, LLC//NONSGML Sugar Calendar Fe
 eds v3.8.2//EN
X-WR-CALNAME:Sofar Sounds | Live Music at 1900 Broadway
X-WR-CALDESC:STAK Space
X-WR-TIMEZONE:UTC
BEGIN:VTIMEZONE
TZID:UTC
BEGIN:STANDARD
TZOFFSETFROM:+0000
TZOFFSETTO:+0000
DTSTART:20250717T070000
TZNAME:UTC
END:STANDARD
END:VTIMEZONE
BEGIN:VTIMEZONE
TZID:UTC
BEGIN:STANDARD
TZOFFSETFROM:+0000
TZOFFSETTO:+0000
DTSTART:20250717T070000
TZNAME:UTC
END:STANDARD
END:VTIMEZONE
BEGIN:VEVENT
SUMMARY:Sofar Sounds | Live Music at 1900 Broadway
DESCRIPTION:Escape the ordinary and experience live music as it was mean
 t to be heard. STAK Space is partnering with the global music community\
 , Sofar Sounds\, to launch an exclusive\, monthly concert series.\n\nEac
 h month\, we’ll transform a unique space within the 1900 Broadway camp
 us into an intimate\, secret-live music experience. From the panoramic 3
 9th-floor sky lounge and the vibrant 4th-floor taproom to our serene ame
 nity lounges\, podium deck\, and versatile 2nd-floor spaces\, every cura
 ted evening will offer a new perspective and a deeply connected atmosphe
 re.\n\nThis is not a typical concert. It’s a carefully crafted discove
 ry where the city lights or curated surroundings set the stage\, and eme
 rging artists take the spotlight. Leave distractions behind and immerse 
 yourself in an unforgettable night of music\, community\, and the pure p
 ower of song.\n\nVenue: TBD (A unique location within 1900 Broadway\, re
 vealed to ticket holders)\nSeries: Monthly\, in partnership with Sofar S
 ounds.
URL;VALUE=URI:https://stakspace.com/events/stak-1900-broadway-resident-e
 vent-sofar-sounds-2/
UID:urn:uuid:839d6986-c471-4679-b3e0-0111286a15ca
STATUS:CONFIRMED
ORGANIZER:
DTSTAMP:20260424T144410Z
DTSTART;TZID=UTC:20260115T190000
DTEND;TZID=UTC:20260115T220000
LOCATION:1900 Broadway
END:VEVENT
END:VCALENDAR