BEGIN:VCALENDAR
METHOD:PUBLISH
VERSION:2.0
CALSCALE:GREGORIAN
PRODID:-//NONSGML Sandhills Development\, LLC//NONSGML Sugar Calendar Fe
 eds v3.8.2//EN
X-WR-CALNAME:Sofar Sounds | Live Music at the 1900 Broadway Sky Lounge
X-WR-CALDESC:STAK Space
X-WR-TIMEZONE:UTC
BEGIN:VTIMEZONE
TZID:UTC
BEGIN:STANDARD
TZOFFSETFROM:+0000
TZOFFSETTO:+0000
DTSTART:20250605T070000
TZNAME:UTC
END:STANDARD
END:VTIMEZONE
BEGIN:VTIMEZONE
TZID:UTC
BEGIN:STANDARD
TZOFFSETFROM:+0000
TZOFFSETTO:+0000
DTSTART:20250605T070000
TZNAME:UTC
END:STANDARD
END:VTIMEZONE
BEGIN:VEVENT
SUMMARY:Sofar Sounds | Live Music at the 1900 Broadway Sky Lounge
DESCRIPTION:Escape the ordinary and experience live music as it was mean
 t to be heard. STAK &amp\; Resident invite you to an exclusive\, intimat
 e concert series in partnership with the global music community\, Sofar 
 Sounds.\nAscend to the 39th floor—our full-floor skyline sanctuary—f
 or a magical evening where the city lights set the stage. This is not a 
 typical concert\; it’s a carefully curated\, secret-live music experie
 nce designed for true connection.\nLeave the distractions behind and imm
 erse yourself in an unforgettable night of discovery\, community\, and t
 he pure power of song.
URL;VALUE=URI:https://stakspace.com/events/stak-1900-broadway-resident-e
 vent-sofar-sounds/
UID:urn:uuid:c90086ce-57d7-44a9-bfa0-d9af61cc7238
STATUS:CONFIRMED
ORGANIZER:
DTSTAMP:20260424T185633Z
DTSTART;TZID=UTC:20251204T190000
DTEND;TZID=UTC:20251204T220000
LOCATION:1900 Broadway
END:VEVENT
END:VCALENDAR