BEGIN:VCALENDAR
METHOD:PUBLISH
VERSION:2.0
CALSCALE:GREGORIAN
PRODID:-//NONSGML Sandhills Development\, LLC//NONSGML Sugar Calendar Fe
 eds v3.8.2//EN
X-WR-CALNAME:STAK Happy Hour: Friendsgiving Celebration
X-WR-CALDESC:STAK Space
X-WR-TIMEZONE:UTC
BEGIN:VTIMEZONE
TZID:UTC
BEGIN:STANDARD
TZOFFSETFROM:+0000
TZOFFSETTO:+0000
DTSTART:20250521T040000
TZNAME:UTC
END:STANDARD
END:VTIMEZONE
BEGIN:VTIMEZONE
TZID:UTC
BEGIN:STANDARD
TZOFFSETFROM:+0000
TZOFFSETTO:+0000
DTSTART:20250521T040000
TZNAME:UTC
END:STANDARD
END:VTIMEZONE
BEGIN:VEVENT
SUMMARY:STAK Happy Hour: Friendsgiving Celebration
DESCRIPTION:Gather your friends and get into the grateful spirit! You're
  invited to a special STAK Happy Hour Friendsgiving edition—a festive 
 evening to celebrate community\, connection\, and the season of thanks.\
 nJoin us for a warm and festive evening featuring:\n\n\n 	\nSeasonal Dri
 nks &amp\; Snacks: Sip on a special menu of autumn-inspired cocktails a
 nd enjoy a spread of comforting seasonal snacks.\n\n 	\nGratitude &amp\;
  Good Company: Share laughs and stories in our cozy\, decorated space\,
  perfect for reconnecting with your work family and friends.\n\n 	\nFest
 ive Vibes: Unwind from the workday to the sounds of a curated playlist 
 that sets a joyful\, celebratory mood.\n\n\nEvent Details:\n\n\n 	\nWhat
 : STAK Happy Hour: Friendsgiving\n\n 	\nWhen: Tuesday\, November 11/19\
 , 4:00 PM - 6:00 PM\n\n 	\nWhere: 1900 Broadway\, 2nd Floor\n\n\nLet's 
 raise a glass to friendship and another year of great times. Don't miss 
 this special gathering to celebrate our community.\nWe're thankful for y
 ou—see you there!
URL;VALUE=URI:https://stakspace.com/events/stak-happy-hour-friendsgiving
 -celebration/
UID:urn:uuid:b244d014-1940-46e2-8ead-d4a458e4ea64
STATUS:CONFIRMED
ORGANIZER:
DTSTAMP:20260424T203839Z
DTSTART;TZID=UTC:20251119T160000
DTEND;TZID=UTC:20251119T180000
LOCATION:1950 Franklin
END:VEVENT
END:VCALENDAR