BEGIN:VCALENDAR
METHOD:PUBLISH
VERSION:2.0
CALSCALE:GREGORIAN
PRODID:-//NONSGML Sandhills Development\, LLC//NONSGML Sugar Calendar Fe
 eds v3.8.2//EN
X-WR-CALNAME:STAK Happy Hour
X-WR-CALDESC:STAK Space
X-WR-TIMEZONE:UTC
BEGIN:VTIMEZONE
TZID:UTC
BEGIN:STANDARD
TZOFFSETFROM:+0000
TZOFFSETTO:+0000
DTSTART:20250514T040000
TZNAME:UTC
END:STANDARD
END:VTIMEZONE
BEGIN:VTIMEZONE
TZID:UTC
BEGIN:STANDARD
TZOFFSETFROM:+0000
TZOFFSETTO:+0000
DTSTART:20250514T040000
TZNAME:UTC
END:STANDARD
END:VTIMEZONE
BEGIN:VEVENT
SUMMARY:STAK Happy Hour
DESCRIPTION:Turn a regular Tuesday into something special. You're invite
 d to the STAK Happy Hour\, the perfect mid-week pause to unwind and conn
 ect with your team.\nJoin us for a relaxed evening featuring:\n\n\n 	\nA
  Curated Selection of Drinks: Enjoy a refreshing menu of craft beverages
 !\n\n 	\nComplimentary Snacks: Pair your drink with a variety of light\
 , tasty snacks.\n\n 	\nVibrant Socializing: Mix and mingle in our styli
 sh second-floor lounge\, designed for easy conversation and making conne
 ctions.\n\n 	\nThe Perfect Weekday Reset: Recharge your energy with gre
 at music and fantastic company.\n\n\nEvent Details:\n\n\n 	\nWhat: STAK
  Happy Hour\n\n 	\nWhen: This Tuesday\, 4:00 PM - 6:00 PM\n\n 	\nWhere:
  1900 Broadway\, 2nd Floor\n\n\nNo need to wait for the weekend for a g
 reat time. Come kick back and elevate your Tuesday with us!\nWe look for
 ward to seeing you there!
URL;VALUE=URI:https://stakspace.com/events/stak-happy-hour/
UID:urn:uuid:60a9d116-6c43-465e-9b5d-2fd6abbf8373
STATUS:CONFIRMED
ORGANIZER:
DTSTAMP:20260424T203618Z
DTSTART;TZID=UTC:20251112T160000
DTEND;TZID=UTC:20251112T180000
LOCATION:1920 Broadway
END:VEVENT
END:VCALENDAR