BEGIN:VCALENDAR
METHOD:PUBLISH
VERSION:2.0
CALSCALE:GREGORIAN
PRODID:-//NONSGML Sandhills Development\, LLC//NONSGML Sugar Calendar Fe
 eds v3.8.2//EN
X-WR-CALNAME:STAK Hour - Oktoberfest
X-WR-CALDESC:STAK Space
X-WR-TIMEZONE:UTC
BEGIN:VTIMEZONE
TZID:UTC
BEGIN:STANDARD
TZOFFSETFROM:+0000
TZOFFSETTO:+0000
DTSTART:20250423T040000
TZNAME:UTC
END:STANDARD
END:VTIMEZONE
BEGIN:VTIMEZONE
TZID:UTC
BEGIN:STANDARD
TZOFFSETFROM:+0000
TZOFFSETTO:+0000
DTSTART:20250423T040000
TZNAME:UTC
END:STANDARD
END:VTIMEZONE
BEGIN:VEVENT
SUMMARY:STAK Hour - Oktoberfest
DESCRIPTION:Celebrate fall with fellow STAK members at ourÂ OktoberfestÂ
  gathering! Enjoy authentic beer\, fresh pretzels\, and great company as
  we bring the spirit of Bavaria to Oakland for an evening of community a
 nd connection.\nđź“… Wednesday\, October 22nd | 4pm - 6pm đź“Ť 1900 Broa
 dway\, 2ndÂ floor
URL;VALUE=URI:https://stakspace.com/events/stak-hour-oktoberfest/
UID:urn:uuid:0996c680-00e9-4e2d-b07c-aaa0e1fb6cbf
STATUS:CONFIRMED
ORGANIZER:
DTSTAMP:20260424T203655Z
DTSTART;TZID=UTC:20251022T160000
DTEND;TZID=UTC:20251022T180000
LOCATION:1920 Broadway
END:VEVENT
END:VCALENDAR