BEGIN:VCALENDAR
METHOD:PUBLISH
VERSION:2.0
CALSCALE:GREGORIAN
PRODID:-//NONSGML Sandhills Development\, LLC//NONSGML Sugar Calendar Fe
 eds v3.8.2//EN
X-WR-CALNAME:STAK Member Breakfast – Yogurt Parfaits
X-WR-CALDESC:STAK Space
X-WR-TIMEZONE:UTC
BEGIN:VTIMEZONE
TZID:UTC
BEGIN:STANDARD
TZOFFSETFROM:+0000
TZOFFSETTO:+0000
DTSTART:20250504T213000
TZNAME:UTC
END:STANDARD
END:VTIMEZONE
BEGIN:VTIMEZONE
TZID:UTC
BEGIN:STANDARD
TZOFFSETFROM:+0000
TZOFFSETTO:+0000
DTSTART:20250504T213000
TZNAME:UTC
END:STANDARD
END:VTIMEZONE
BEGIN:VEVENT
SUMMARY:STAK Member Breakfast – Yogurt Parfaits
DESCRIPTION:Join STAK Members for complimentary yogurt parfaits at our 1
 920 Broadway (2nd Floor) and 1950 Franklin (18th Floor) locations!
URL;VALUE=URI:https://stakspace.com/events/stak-member-breakfast-yogurt-
 parfaits/
UID:urn:uuid:45392dca-76be-406d-8e08-26951fe2d603
STATUS:CONFIRMED
ORGANIZER:
DTSTAMP:20260424T203634Z
DTSTART;TZID=UTC:20251103T093000
DTEND;TZID=UTC:20251103T110000
LOCATION:1920 Broadway & 1950 Franklin
END:VEVENT
END:VCALENDAR