BEGIN:VCALENDAR
METHOD:PUBLISH
VERSION:2.0
CALSCALE:GREGORIAN
PRODID:-//NONSGML Sandhills Development\, LLC//NONSGML Sugar Calendar Fe
 eds v3.8.2//EN
X-WR-CALNAME:STAK Oakland Food Fest @ 1900 Broadway
X-WR-CALDESC:STAK Space
X-WR-TIMEZONE:UTC
BEGIN:VTIMEZONE
TZID:UTC
BEGIN:STANDARD
TZOFFSETFROM:+0000
TZOFFSETTO:+0000
DTSTART:20251106T053000
TZNAME:UTC
END:STANDARD
END:VTIMEZONE
BEGIN:VTIMEZONE
TZID:UTC
BEGIN:STANDARD
TZOFFSETFROM:+0000
TZOFFSETTO:+0000
DTSTART:20251106T053000
TZNAME:UTC
END:STANDARD
END:VTIMEZONE
BEGIN:VEVENT
SUMMARY:STAK Oakland Food Fest @ 1900 Broadway
DESCRIPTION:Taste the best of Oakland at the STAK Food Fest on May 7th a
 t 1900 Broadway. Enjoy Carlyle's Wings\, Betty's BBQ\, Sweets by Night\,
  and more!\n\n\n\n\n\n\nJoin us on the 4th floor outdoor podium deck at 
 1900 Broadway for the STAK Food Fest on Thursday\, May 7. This premier c
 ulinary event brings the heart of Oakland dining to our lush garden terr
 ace for an evening of incredible food and community vibes.\n\nStarting a
 t 6:00 PM\, you can explore a curated selection of local favorites inclu
 ding Carlyle’s Chicken Wings\, Betty’s BBQ\, Mad Delectables and Swe
 ets by Night\, all paired with selections from Coco Noir Wine Shop and B
 ar. Whether you are looking for free samples or full-size signature plat
 es\, our vendors are serving up their best offerings in one of the most 
 unique open-air settings in Uptown.\n\nGrab your friends and head to the
  podium deck for a night of great eats and even better company. We look 
 forward to seeing you there.\n\n\n🎟️ Tickets: $25 General Admission
  | $40 VIP\n🚪 Doors: 5:30 PM | Food Service: 6:00 PM
URL;VALUE=URI:https://stakspace.com/events/stak-oakland-food-fest-1900-b
 roadway/
UID:urn:uuid:1e41f232-c32b-41a8-8769-3eee66039213
STATUS:CONFIRMED
ORGANIZER:
DTSTAMP:20260424T170429Z
DTSTART;TZID=UTC:20260507T173000
DTEND;TZID=UTC:20260507T203000
LOCATION:1900 Broadway
END:VEVENT
END:VCALENDAR