BEGIN:VCALENDAR
METHOD:PUBLISH
VERSION:2.0
CALSCALE:GREGORIAN
PRODID:-//NONSGML Sandhills Development\, LLC//NONSGML Sugar Calendar Fe
 eds v3.8.2//EN
X-WR-CALNAME:STAK Ventures Pitch & Panel. (Now accepting startup applica
 tions & pitch decks)
X-WR-CALDESC:STAK Space
X-WR-TIMEZONE:UTC
BEGIN:VTIMEZONE
TZID:UTC
BEGIN:STANDARD
TZOFFSETFROM:+0000
TZOFFSETTO:+0000
DTSTART:20250827T120000
TZNAME:UTC
END:STANDARD
END:VTIMEZONE
BEGIN:VTIMEZONE
TZID:UTC
BEGIN:STANDARD
TZOFFSETFROM:+0000
TZOFFSETTO:+0000
DTSTART:20250827T120000
TZNAME:UTC
END:STANDARD
END:VTIMEZONE
BEGIN:VEVENT
SUMMARY:STAK Ventures Pitch & Panel. (Now accepting startup applications
  & pitch decks)
DESCRIPTION:You are cordially invited to the STAK Ventures: Pitch &amp\;
  Panel\, hosted at the 1900 Broadway Tower in Oakland. Join us for a hig
 h-impact afternoon dedicated to networking\, industry insights\, and com
 munity building. Attendees will have the opportunity to observe the STAK
  Ventures pitch\, engage with our expert panel\, and connect directly wi
 th active investors.\nIn keeping with our tradition\, light refreshments
  and beverages will be provided.\n\nEvent Details\n\n 	\nCo-hosts: STAK 
 Ventures\, Go Global World\, and Selective VC\n\n 	\nLocation: STAK Spac
 e\, 1920 Broadway\, 2nd Floor\, Oakland\, CA 94612\n\n\nLogistics\nParki
 ng Information Please utilize the designated garage at 1901 Franklin Gar
 age (accessible via Franklin and 19th Street) or the Franklin Plaza Gara
 ge located across the street on 19th. Both facilities offer secure parki
 ng.\nPublic Transportation For those traveling via BART\, please exit at
  the 19th St/Oakland station. The venue is located directly outside the 
 station exit.\n\nAbout the Hosts\n\n 	\nSTAK Ventures: A venture capital
  firm specializing in the future of real estate. Utilizing proprietary t
 echnology\, STAK offers a full-stack solution that integrates living\, w
 orking\, and social environments into a single platform.\n\n 	\nSelectiv
 e VC: A community-driven fund and angel syndicate focused on frontier-te
 ch ventures poised to define the landscape of the 2030s.\n\n 	\nGo Globa
 l World: An international platform connecting founders\, investors\, and
  mentors. They provide critical infrastructure for global teams to scale
 \, fundraise\, and navigate U.S. market entry.\n\n\n\nRegistration: Capa
 city is limited. Please RSVP at your earliest convenience to secure your
  attendance.\n\nWe look forward to fostering the next wave of innovation
  with you in Oakland.
URL;VALUE=URI:https://stakspace.com/events/stak-ventures-pitch-panel-2-2
 6/
UID:urn:uuid:19f6fc4f-3ebd-4a84-8065-521963597116
STATUS:CONFIRMED
ORGANIZER:
DTSTAMP:20260424T170831Z
DTSTART;TZID=UTC:20260226T000000
DTEND;TZID=UTC:20260226T030000
LOCATION:1920 Broadway
END:VEVENT
END:VCALENDAR