BEGIN:VCALENDAR
METHOD:PUBLISH
VERSION:2.0
CALSCALE:GREGORIAN
PRODID:-//NONSGML Sandhills Development\, LLC//NONSGML Sugar Calendar Fe
 eds v3.8.2//EN
X-WR-CALNAME:STAK Ventures Speaker Series - VIP Lunch & Learn with Itama
 r Novick
X-WR-CALDESC:STAK Space
X-WR-TIMEZONE:UTC
BEGIN:VTIMEZONE
TZID:UTC
BEGIN:STANDARD
TZOFFSETFROM:+0000
TZOFFSETTO:+0000
DTSTART:20250929T000000
TZNAME:UTC
END:STANDARD
END:VTIMEZONE
BEGIN:VTIMEZONE
TZID:UTC
BEGIN:STANDARD
TZOFFSETFROM:+0000
TZOFFSETTO:+0000
DTSTART:20250929T000000
TZNAME:UTC
END:STANDARD
END:VTIMEZONE
BEGIN:VEVENT
SUMMARY:STAK Ventures Speaker Series - VIP Lunch & Learn with Itamar Nov
 ick
DESCRIPTION:​​​​You're invited to the STAK Ventures Speaker Ser
 ies — a VIP Lunch &amp\; Learn\n​​​Hosted at the iconic 1900 
 Broadway Tower in Oakland. Every 2 weeks we will be featuring an new gue
 st speaker!\n​​​​Join us for a high-impact afternoon of connecti
 on\, conversation\, and community as we welcome a visionary venture capi
 talist shaping the future of innovation:\n​​​SPEAKER:\n​🎤Itam
 ar Novick is Founder and General Partner of Recursive Ventures\, a Sili
 con Valley seed fund investing in tech entrepreneurs reshaping industrie
 s with data and AI. Named a Top 100 Global Seed Investor by Business I
 nsider\, Itamar and his team are known for moving fast\, backing founder
 s at the pre-seed and seed stage\, and being true partners every step of
  the way.\n​Itamar will share game-changing insights on scaling\, fund
 raising\, and the future of AI-driven industries.\n​​​If you are w
 anting to hold office hours before our speaker series contact me to get 
 on the list.\n​​🌟 What to Expect:\n\n 	\n​​​​🍽️ A re
 laxed lunch with fellow founders\, investors\, and ecosystem leaders\n\n
  	\n​​​​🤝 Curated networking and high-impact introductions to
  help you move the needle\n\n 	\n​​​​🎤 A 30-minute speaker se
 ssion with live Q&amp\;A\, moderated by Brian Sparkes\n\n 	\n​​​
 🚀 Insightful conversations on venture capital\, innovation\, and in
 dustry transformation\n\n 	\n​​​​🚗 Secured parking in the hea
 rt of Uptown Oakland\n\n\n​​​​📍 Location:\n1920 Broadway\, 2
 nd Floor\, Oakland\, CA 94612\n​​​​🅿️ Driving Instructions
 :\n🚗 Parking: Please use our designated garage at 1901 Franklin Garag
 e (entrances on Franklin and 19th Street). Or the secured parking across
  the street on 19th at the Franklin Plaza Garage. Both are secure and sa
 fe.\n​​​​🚇 Taking BART?\nExit at 19th St/Oakland—the buil
 ding is directly outside the station.\n​​​​🎟️ Seats are li
 mited—RSVP now to secure your spot.\nFor questions or day-of needs\, t
 ext me directly: 408-992-5043\n​​​​Let’s spark the next wave 
 of innovation—right here in Oakland.\n​​Location\n​​STAK Space
  - 1900 Broadway\n​​1920 Broadway\, Oakland\, CA 94612\, USA\n​Loc
 ation\n​STAK Space - 1900 Broadway\n​1920 Broadway\, Oakland\, CA 94
 612\, USA
URL;VALUE=URI:https://stakspace.com/events/stak-ventures-speaker-series-
 vip-lunch-learn-with-itamar-novick/
UID:urn:uuid:0d35674e-cf11-44c4-84cc-750c344012ae
STATUS:CONFIRMED
ORGANIZER:
DTSTAMP:20260424T170356Z
DTSTART;TZID=UTC:20260330T120000
DTEND;TZID=UTC:20260330T150000
LOCATION:1920 Broadway
END:VEVENT
END:VCALENDAR