BEGIN:VCALENDAR
METHOD:PUBLISH
VERSION:2.0
CALSCALE:GREGORIAN
PRODID:-//NONSGML Sandhills Development\, LLC//NONSGML Sugar Calendar Fe
 eds v3.8.2//EN
X-WR-CALNAME:​STAK Ventures: Speakers Series - VIP Lunch & Learn 
X-WR-CALDESC:STAK Space
X-WR-TIMEZONE:UTC
BEGIN:VTIMEZONE
TZID:UTC
BEGIN:STANDARD
TZOFFSETFROM:+0000
TZOFFSETTO:+0000
DTSTART:20250820T000000
TZNAME:UTC
END:STANDARD
END:VTIMEZONE
BEGIN:VTIMEZONE
TZID:UTC
BEGIN:STANDARD
TZOFFSETFROM:+0000
TZOFFSETTO:+0000
DTSTART:20250820T000000
TZNAME:UTC
END:STANDARD
END:VTIMEZONE
BEGIN:VEVENT
SUMMARY:​STAK Ventures: Speakers Series - VIP Lunch & Learn 
DESCRIPTION:The event is co-hosted by Go Global World and Selective VC
 .\n​You're invited to the STAK Ventures Speaker Series — a VIP Lunc
 h &amp\; Learn Hosted at the iconic 1900 Broadway Tower in Oakland. Join
  us for a high-impact afternoon of connection\, conversation\, and commu
 nity as we welcome two visionary venture capitalists shaping the future 
 of innovation. If you are wanting to hold office hours before our speake
 r series contact me to get on the list.\n\nPanel Speakers:\n​AJ Thomas
  - GP and Founder of Good Trouble Ventures\n​Danil Kislinskiy - Foun
 der and CEO of Go Global World\,\nan international platform and venture 
 ecosystem connecting startups\, investors\, and mentors from Silicon Val
 ley and other global markets. He builds global communities and tools tha
 t help founders scale ambitious startups\, expand internationally\, and 
 raise capital. Danil leads investment processes\, supports investors wit
 h startup due diligence and global potential assessment\, and works clos
 ely with founding teams on achieving Product–Market Fit and scaling ac
 ross the US and Europe.\n​🌟 What to Expect: \n​🍽️ A relaxed
  lunch with fellow founders\, investors\, and ecosystem leaders\n​🤝
  Curated networking and high-impact introductions to help you move the n
 eedle\n​🎤 A 30-minute speaker session with live Q&amp\;A\, moderate
 d by Brian Sparkes\n​🚀 Insightful conversations on venture capital\
 , innovation\, and industry transformation\n​ 🚗 Secured parking in
  the heart of Uptown Oakland\n​📍 Location: 1920 Broadway\, 2nd Floo
 r\, Oakland\, CA 94612\n​🅿️ Driving Instructions: \n​🚗 Park
 ing: Please use our designated garage at 1901 Franklin Garage (entrances
  on Franklin and 19th Street). Or the secured parking across the street 
 on 19th at the Franklin Plaza Garage. Both are secure and safe.\n​🚇
  Taking BART? Exit at 19th St/Oakland—the building is directly outside
  the station.\n​🎟️ Seats are limited—RSVP now to secure your sp
 ot.\n​For questions or day-of needs\, email Brian Sparkes at bsparkes@
 behringco.com\n​Let’s spark the next wave of innovation—right here
  in Oakland. Location STAK Space - 1900 Broadway 1920 Broadway\, Oaklan
 d\, CA 94612\, USA\n\nCo-hosts:\n​Selective VC - a community-driven f
 und &amp\; angel syndicate investing in frontier-tech ventures shaping t
 he 2030s landscape\n​Go Global World is an international community an
 d platform that brings together founders\, investors\, and mentors from 
 around the world. They help teams scale their businesses\, prepare for f
 undraising\, build direct connections with the venture ecosystem\, and e
 nter the U.S. market with US incorporation\, taxes\, and accounting.\n
 🤝 Sponsorship Opportunities\n​Looking to gain direct access to the
  startup and venture ecosystem while showcasing your services to founder
 s\, investors\, and decision-makers?\n​We offer select sponsorship opp
 ortunities for partners who want meaningful visibility\, authentic engag
 ement\, and long-term ecosystem alignment. Sponsors are thoughtfully int
 egrated into our events—not as vendors\, but as contributors to the co
 mmunity experience.\n​If you’re interested in sponsoring an upcoming
  STAK Ventures event\, contact us directly to explore availability and f
 it: info@stakspace.com
URL;VALUE=URI:https://stakspace.com/events/stak-ventures-speakers-series
 -vip-lunch-learn/
UID:urn:uuid:cd9e426d-6fb0-4b37-9709-bc2d3123c82b
STATUS:CONFIRMED
ORGANIZER:
DTSTAMP:20260424T185541Z
DTSTART;TZID=UTC:20260218T120000
DTEND;TZID=UTC:20260218T150000
LOCATION:1920 Broadway
END:VEVENT
END:VCALENDAR