BEGIN:VCALENDAR
METHOD:PUBLISH
VERSION:2.0
CALSCALE:GREGORIAN
PRODID:-//NONSGML Sandhills Development\, LLC//NONSGML Sugar Calendar Fe
 eds v3.8.2//EN
X-WR-CALNAME:Startup Grind Summer Bash - Uniting Silicon Valley\, SF & O
 akland
X-WR-CALDESC:STAK Space
X-WR-TIMEZONE:UTC
BEGIN:VTIMEZONE
TZID:UTC
BEGIN:STANDARD
TZOFFSETFROM:+0000
TZOFFSETTO:+0000
DTSTART:20250227T000000
TZNAME:UTC
END:STANDARD
END:VTIMEZONE
BEGIN:VTIMEZONE
TZID:UTC
BEGIN:STANDARD
TZOFFSETFROM:+0000
TZOFFSETTO:+0000
DTSTART:20250227T000000
TZNAME:UTC
END:STANDARD
END:VTIMEZONE
BEGIN:VEVENT
SUMMARY:Startup Grind Summer Bash - Uniting Silicon Valley\, SF & Oaklan
 d
DESCRIPTION:Join us for the ultimate Startup Grind Summer Bash and the l
 aunch of our Oakland Chapter! Expect startup pitches\, investor panels w
 ith live Q+A\, fun networking zones\, and great food &amp\; drinks on us
 . Founders\, VCs\, and startup loversโcome celebrate\, connect\, and g
 row your network. Letโs make this a summer to remember!\n\n\n\n\n\n\n\
 n\n\n\n\n\n\n๐ Startup Grind Silicon Valley Summer Bash โ Oakland L
 aunch Edition!\n\n๐ Location: STAK Ventures\, Oakland\n\n๐ Date: A
 ugust 28\, 2025\n\n๐ Time: 12:00 PM โ 7:00 PM\n\n 	Join us for an u
 nforgettable Startup Grind Summer Bash\, celebrating the official launch
  of our Oakland Chapter at the award-winning STAK Space โ the Bay Area
 โs largest integrated tech ecosystem.\n\n&nbsp\;\n\nWhat to Expect:\n\
 n๐ฅ High-Energy Pitch Session &amp\; Startup Exhbiitors\n\n๐ฌ Unfilt
 ered VC Panels with Live Q&amp\;A\n\n๐ Free Food &amp\; Drinks All Da
 y\n\n๐ง Vibey DJ\, Games &amp\; Chill Zones\n\n๐ Exclusive VIP Cock
 tail Hour with Bay Area Experts\n\nWhether you're a founder ready to pit
 ch\, an investor looking to connect\, or just love being around the ener
 gy of startups\, this is your summer event.\n\n&nbsp\;\n\n๐ Event Age
 nda\n\n12:00 PM โ Check-In &amp\; Badge Collection\n\n12:00 โ 2:30 P
 M โ Welcomeย Party\n\n 	Lunch &amp\; Drinks\n 	Lawn Games + DJ\n 	Star
 tup Exhibitor Showcase (4th Floor)\n\n&nbsp\;\n\n2:15 PM โ We Head Dow
 nstairs (Follow the Music)\n\n2:30 โ 4:30 PM โ Content Block (2nd Fl
 oor)\n\n 	3:05 โ 3:30 PM โ Carta Session\n 	3:35 โ 4:00 PM โ VC 
 Panel: State of Silicon Valley Venture\n 	4:05 โ 4:30 PM โ Startup P
 itches (5 Founders / 2 mins each). With live feedback from our investor 
 panel.\n\n&nbsp\;\n\n4:30 PM Onward โ VIP Cocktail Hour (39th Floor) -
  Tickets required.\n\n๐ Ticket Types\n\n 	Startup โ Founders or sta
 rtup team members\n 	Investor โ Angels\, VCs\, syndicates\n 	General โ
  Operators\, ecosystem supporters\, service providers\n 	Founder Pitch
  โ 2-min pitch slot in front of 100+ attendees &amp\; investors\n 	Sta
 rtup Exhibitor โ Showcase your product (includes 1 VIP lounge pass)\n 
 	VIP โ Access to the exclusive 39th-floor cocktail hour + panel\n 	Spo
 nsor โ Email us for details\; includes setup space on both floors\, pl
 us 5 VIP passes\n\n\n\n\n\n\n\n\n\n\n\n\n\n\n\n\n\n\n\n\n\nTicket\nVenue
 \nPrice\nFee\n\n\nStartup\nIn-person\n25.00 USD\n1.58 USD\n\n\nInvestor\
 nIn-person\n25.00 USD\n1.58 USD\n\n\nGeneral Attendee / Operator\nIn-per
 son\n25.00 USD\n1.58 USD\n\n\nFounder Pitch (available to first 5 startu
 ps to register)\nIn-person\n100.00 USD\n6.59 USD\n\n\nVIP (access to the
  VIP Happy Hour and warm intros to 5 founders/investors)\nIn-person\n99.
 00 USD\n6.54 USD\n\n\nStartup Exhibitor (option to bring a roll up banne
 r and have a dedicated booth/table setup for the day + entry to the VIP 
 Happy Hour)\nIn-person\n300.00 USD\n17.74 USD\n\n\nSponsorship (all opt-
 in attendee data\, digital and physical promotion + swag\, access to the
  VIP lounge)\nIn-person\n2\,000.00 USD\n112.52 USD\n\n\n\n\n\n\n\n\n\n\n
 \n&nbsp\;\n\n๐ก Want to Sponsor or Partner?\n\n 	Weโve got you cover
 edโbrand presence\, activation spaces\, VIP access\, and more. Email u
 s for sponsorship details - james.gee@startupgrind.com\n\n&nbsp\;\n\n๐
 ข Venue Highlight: STAK Space\n\n 	STAK Space spans two buildings and 45
 0\,000+ sqft of premium workspace. With:\n 	An on-site beer taproom ๐ป
 \n 	State-of-the-art event + conference spaces\n 	A built-in tech and AI
  startup community\n 	6\,000+ sqft fitness center ๐ช\n 	This is where 
 the next wave of innovation is brewing.\n\n&nbsp\;\n\n๐ Letโs celeb
 rate Summer with a bang!
URL;VALUE=URI:https://stakspace.com/events/startup-grind-summer-bash-uni
 ting-silicon-valley-sf-oakland/
UID:urn:uuid:6fde831b-2079-4242-bbc4-09731a41d02f
STATUS:CONFIRMED
ORGANIZER:
DTSTAMP:20260424T203824Z
DTSTART;TZID=UTC:20250828T120000
DTEND;TZID=UTC:20250828T190000
LOCATION:1900 Broadway
END:VEVENT
END:VCALENDAR