BEGIN:VCALENDAR
METHOD:PUBLISH
VERSION:2.0
CALSCALE:GREGORIAN
PRODID:-//NONSGML Sandhills Development\, LLC//NONSGML Sugar Calendar Fe
 eds v3.8.2//EN
X-WR-CALNAME:Transform East Bay Social
X-WR-CALDESC:STAK Space
X-WR-TIMEZONE:UTC
BEGIN:VTIMEZONE
TZID:UTC
BEGIN:STANDARD
TZOFFSETFROM:+0000
TZOFFSETTO:+0000
DTSTART:20250417T043000
TZNAME:UTC
END:STANDARD
END:VTIMEZONE
BEGIN:VTIMEZONE
TZID:UTC
BEGIN:STANDARD
TZOFFSETFROM:+0000
TZOFFSETTO:+0000
DTSTART:20250417T043000
TZNAME:UTC
END:STANDARD
END:VTIMEZONE
BEGIN:VEVENT
SUMMARY:Transform East Bay Social
DESCRIPTION:Join us on October 16th from 4:30–7:30 PM at 1900 Broadway
  Tower - Oakland\, 39th Floor Sky Lounge\, for an evening designed to br
 ing together CHROs\, executives\, investors\, startups\, and talent lead
 ers shaping the future of work.\n\nThis exclusive Transform East Bay Soc
 ial is your opportunity to connect with executive leaders and CHRO's to 
 exchange ideas\, and explore the evolving landscape of corporate and sta
 rtup leadership. From culture-building\, talent strategies to Ai strateg
 y\, we’ll create space for candid conversations on the challenges and 
 opportunities that matter most.\n\nWhether you’re looking to grow your
  network\, collaborate on new ideas\, or simply enjoy happy hour with fe
 llow people leaders\, Transform East Bay Social offers the perfect setti
 ng at the heart of Oakland’s innovation hub at 1900 Broadway in Uptown
  Oakland.\n\n​​Driving Instructions:\n​🚗 Parking: Please use ou
 r designated garage at 410 19th Street.\n​​🚇 Taking BART? Exit at
  19th St/Oakland—the building is directly outside the station.
URL;VALUE=URI:https://stakspace.com/events/transform-east-bay-social-202
 5/
UID:urn:uuid:3dcc3637-fdc8-493f-b7e7-b2eb9662cd81
STATUS:CONFIRMED
ORGANIZER:
DTSTAMP:20260424T163103Z
DTSTART;TZID=UTC:20251016T163000
DTEND;TZID=UTC:20251016T193000
LOCATION:1900 Broadway
END:VEVENT
END:VCALENDAR